BEGIN:VCALENDAR
PRODID:-//github.com/rianjs/ical.net//NONSGML ical.net 4.0//EN
VERSION:2.0
BEGIN:VEVENT
DESCRIPTION:Test på demoskole
DTEND:20260423T235959
DTSTAMP:20260423T023014Z
DTSTART;VALUE=DATE:20260423
LOCATION:test
SEQUENCE:0
SUMMARY:Test på demoskole
UID:38e98a84-ff14-4ab8-a23f-714d32d7d25c
END:VEVENT
END:VCALENDAR
